BEGIN:VCALENDAR
VERSION:2.0
PRODID:-//WP EVENT Manager Ical//NONSGML Events//EN
CALSCALE:GREGORIAN
BEGIN:VTIMEZONE
TZID:Asia/Kolkata
BEGIN:STANDARD
DTSTART:19700101T000000
TZOFFSETFROM:+0530
TZOFFSETTO:+0530
END:STANDARD
END:VTIMEZONE
BEGIN:VEVENT
UID:69eb91627831e@alteswasserwerk.de
DTSTAMP:20260424T155058Z
DTSTART;TZID=Asia/Kolkata:20251010T150000
DTEND;TZID=Asia/Kolkata:20260718T140000
LOCATION:Altes Wasserwerk, Tumringer Str. 269, 79539 Lörrach
SUMMARY:Erfolgreich bilden und erziehen in der Schulkindbetreuung
DESCRIPTION:Kursdauer: 11 Monate im Zeitraum vom 10. Oktober 2025 bis 18. Juli 2026Unterrichtszeiten: Mi. 18:00 – 21:00 Uhr · Fr. 15:00 – 19:00 Uhr · Sa. 09:00 – 14:00 UhrTeilnahmegebühr: 1.100 Euro (zzgl. MwSt. ) inkl. BegleitbücherFür die Betreuung von Schulkindern werden neben sozialpädagogischen Fachkräften auch Personen ohne pädagogische Grundausbildung beschäftigt. Als wertvolle Ergänzungskräfte unterstützen sie die Fachkräfte, meist mit geringerem Stellenumfang. Auch sie müssen den vielfältigen Anforderungen des pädagogischen Alltags gewachsen sein und den Bildungs- und Erziehungsauftrag mit angemessener Qualität begegnen.Der Lehrgang ist berufsbegleitend angelegt und vermittelt in insgesamt 250 Unterrichtseinheiten (praxisorientiert) die Grundlagen für die außerunterrichtliche Arbeit an Schulen/pädagogische Arbeit in der Schulkindbetreuung.Die Teilnehmenden sollen durch den Lehrgang ihre personalen, sozialen und fachlichen Kompetenzen erweitern und mehr Handlungssicherheit im Tätigkeitsbereich entwickeln.ZielgruppePäd. Ergänzungskräfte, die im außerunterrichtlichen Bereich an Ganztagsschulen oder in der Betreuung von Schulkindern an Halbtagsschulen arbeiten und sich persönlich sowie fachlich weiterqualifizieren wollen.Quereinsteiger:innen, die pädagogische Erfahrungen als Ehrenamtliche oder aus familiären Zusammenhängen mit Kindern mitbringen.Menschen, die über keine pädagogische oder sonstige vergleichbare berufliche Qualifikation verfügen, sich aber für den Einstieg ins pädagogische Berufsfeldinteressieren.Abmelde- und Stornierungsbedingungen bei Fort- und Weiterbildungsangeboten  Online Anmeldung und weitere Informationen zum Kurs finden Sie auf der SAK Lörrach e.V. Webseite  
END:VEVENT
END:VCALENDAR