BEGIN:VCALENDAR
VERSION:2.0
PRODID:-//WP EVENT Manager Ical//NONSGML Events//EN
CALSCALE:GREGORIAN
BEGIN:VTIMEZONE
TZID:Asia/Kolkata
BEGIN:STANDARD
DTSTART:19700101T000000
TZOFFSETFROM:+0530
TZOFFSETTO:+0530
END:STANDARD
END:VTIMEZONE
BEGIN:VEVENT
UID:69eab06f161c8@alteswasserwerk.de
DTSTAMP:20260423T235111Z
DTSTART;TZID=Asia/Kolkata:20260824T080000
DTEND;TZID=Asia/Kolkata:20260828T163000
LOCATION:Rheinweiler, 79415 Bad Bellingen (Genauer Ort wird noch bekannt gegeben)
SUMMARY:Entdecker-Camp
DESCRIPTION:Alter: 6 &#8211; 12 Jahre · Preis: ab 125 € für 5 Tage · Anmeldung erforderlichWir erleben eine Woche voller Abenteuer, Spiel und Spannung! Gemeinsam probieren wir Neues aus, entdecken kleine Herausforderungen und haben Spaß bei Bewegungsspielen, Rätseln und kreativen Aktionen. Jeden Tag wartet eine Überraschung auf uns, bei der wir im Team zusammenarbeiten, lachen und unsere Ideen einbringen können. Eine abwechslungsreiche Woche, in der wir entdecken, ausprobieren und gemeinsam unvergessliche Momente erleben – actionreich, kreativ und voller Spaß!&nbsp;Kommunaler Förderer:Gemeinde Bad BellingenKooperation Inklusion:Offene Hilfen Lebenshilfe Lörrach  Informationen zum Ablauf, Programm und TeilnehmerbeiträgenIn den Ferien bieten wir Ihren Kindern im Alter von 6 bis 12 Jahren ein spannendes, erlebnisreiches und lehrreiches Ferienprogramm an. Neben Workshops mit Bildungsinhalten kommt auch die Freizeit nicht zu kurz.Betreuungszeiten und Programmablaufmit Frühbetreuung 08:00 – 16:30 Uhr(Sie können Ihr Kind zwischen 08:00 Uhr und 09:45 Uhr bringen)ohne Frühbetreuung 10:00 – 16:30 Uhr08:00 – 10:00 Uhr Frühbetreuung10:00 – 12:00 Uhr Ateliers12:00 – 14:00 Uhr Mittagessen und freizeitpädagogisches Programm14:00 – 15:30 Uhr Ateliers16:00 – 16:30 Uhr AbholzeitIn den übrigen Zeiten findet ein freizeitpädagogisches Programm statt.Informationen zum EssenGeben Sie Ihrem Kind bei Bedarf ein Frühstück und ein Mittagessen (Vesper) mit.PreiseGrundpreis: 125 € für 5 Tage · mit Frühbetreuung für 5 Tage (optional): + 10 €Kinder aus anderen Kommunen: + 40 € für 5 TageFaire Beiträge – Teilhabe ermöglichen – denn jede*r zähltAbmelde- und Stornierungsbedingungen für Ferien, Camps &amp; FreizeitenAnmeldungSobald Ihre Anmeldung bei uns eingegangen ist, erhalten sie in den nächsten Tagen eine Rückmeldung mit näheren Informationen und den Überweisungsdaten oder einen Wartelistenplatz.Bitte aktiviere JavaScript in deinem Browser, um dieses Formular fertigzustellen.Ich melde mein Kind für folgendes Angebot an: *Sommerolympiade · 10.08. - 14.08.Manege Frei! · 17.08. - 21.08.Entdecker-Camp · 24.08. - 28.08.Mit Frühbetreuung *JaNein1. Teilnehmer:in *VornameNachnameGeburtsdatum 1. Teilnehmer:in *Weitere Angaben zu 1. Teilnehmer:inMein Kind darf alleine nach Hause gehen.Mein Kind hat das Seepferdchen absolviert und darf unter Aufsicht schwimmen.Kleine Wunden dürfen desinfiziert werden.Zecken dürfen entfernt werden.Eine Grundimmunisierung durch Schutzimpfungen, sowie deren Auffrischungen bestehen.Mein Kind ernährt sich vegetarisch.Mein Kind isst kein Schweinefleisch.Bitte Zutreffendes auswählen.Wichtige Informationen zu 1. Teilnehmer:in *Notieren Sie hier bitte z. B. Krankheiten, Allergien, Medikamente, Beeinträchtigungen, etc. oder schließen sie diese mit NEIN aus.2. Teilnehmer:inVornameNachnameGeburtsdatum 2. Teilnehmer:inWeitere Angaben zu 2. Teilnehmer:inMein Kind darf alleine nach Hause gehen.Mein Kind hat das Seepferdchen absolviert und darf unter Aufsicht schwimmen.Kleine Wunden dürfen desinfiziert werden.Zecken dürfen entfernt werden.Eine Grundimmunisierung durch Schutzimpfungen, sowie deren Auffrischungen bestehen.Mein Kind ernährt sich vegetarisch.Mein Kind isst kein Schweinefleisch.Bitte Zutreffendes auswählen.Wichtige Informationen zu 2. Teilnehmer:inNotieren Sie hier bitte z. B. Krankheiten, Allergien, Medikamente, Beeinträchtigungen, etc. oder schließen sie diese mit NEIN aus.Straße, Nr. *PLZ *Ort *Name des Erziehungsberechtigten *VornameNachnameTelefonnummer Erziehungsberechtigte/-r (Mobil, Festnetz) *Notfalltelefonnummer während der AngebotszeitE-Mail Adresse *Ich benötige eine ErmäßigungIch bin Geringverdiener:in (monatliches Nettoeinkommen unter 1800 €)Ich bin im Leistungs-BezugInklusion – Assistenz in Kooperation mit den Offenen Hilfen der Lebenshilfe LörrachAnfrage und Beratung für Kinder mit Behinderung erwünscht.Ihr Kind benötigt individuelle Betreuung oder eine enge Begleitung während unserer Angebote, z. B. aufgrund einer Behinderung?Einwilligung *Ich versichere alle mein Kind betreffenden und für die Aktion relevanten Angaben gemacht zu haben.Freizeitregeln *Ich habe mein Kind darüber in Kenntnis gesetzt, dass es die Freizeitregeln sowie die Haus/Geländeregeln einzuhalten hat und den Anweisungen der Betreuenden Folge leistet. Mir ist bekannt, dass mein Kind bei schwerwiegendem Fehlverhalten aus dem Ferienprogramm ausgeschlossen wird und von mir abgeholt werden muss.Versicherung *Ich nehme zur Kenntnis, dass die Kinder, die das Angebot besuchen, in eine Gruppenunfallversicherung eingebunden sind. Es bestehen keine Auslandskrankenversicherung (nur bei Programmen mit Auslandaufenthalt) und keine Haftpflichtversicherung. Diese empfehlen wir selbst abzuschließen. Die Teamleitung haftet nicht für Schäden, die durch Nichtbefolgen von Anweisungen der Betreuenden durch mein Kind entstanden sind.Fotos und Filmaufnahmen *JaNeinFotos und Filmaufnahmen, die während der Aktion gemacht werden, dürfen zur Öffentlichkeitsarbeit (Programme, Website und Social Media Kanäle der SAK Lörrach e. V. und Tochtergesellschaften sowie für die Zeitung) verwendet werden.NewsletterIch bin damit einverstanden gelegentlich per Mail über Angebote des SAK Kinderbüros informiert zu werden.Datenschutz und Datenverarbeitung *Ich bin damit einverstanden, dass der SAK unter Beachtung des Datenschutzgesetzes die angegebenen persönlichen Daten im Rahmen der Anmeldung erheben, verarbeiten, nutzen und speichern darf.Abmelde- und Stornierungsbedingungen *Ich versichere, die Abmelde- und Stornierungsbedingungen gelesen zu haben und akzeptiere diese.Absenden
END:VEVENT
END:VCALENDAR