BEGIN:VCALENDAR
VERSION:2.0
PRODID:-//WP EVENT Manager Ical//NONSGML Events//EN
CALSCALE:GREGORIAN
BEGIN:VTIMEZONE
TZID:Asia/Kolkata
BEGIN:STANDARD
DTSTART:19700101T000000
TZOFFSETFROM:+0530
TZOFFSETTO:+0530
END:STANDARD
END:VTIMEZONE
BEGIN:VEVENT
UID:69e8d75867cc5@alteswasserwerk.de
DTSTAMP:20260422T141240Z
DTSTART;TZID=Asia/Kolkata:20260513T180000
DTEND;TZID=Asia/Kolkata:20260513T000000
LOCATION:Altes Wasserwerk, Tumringer Str. 269, 79539 Lörrach
SUMMARY:Barhopper – Saunaclub Hinterzarten und Thomas Danger
DESCRIPTION:Einlass: ab 18:00 Uhr · Konzertbeginn: 19:00 Uhr&gt;&gt; Vorverkauf direkt über BarhopperBarhopper ist das Kneipenfestival in Lörrach: Mit nur einem Ticket bekommt ihr Zugang zu Live-Musik, DJs und Partys in verschiedenen Bars, Läden und Locations der Stadt.Am 13. Mai wird das Alte Wasserwerk mal wieder zur Bühne für eine Nacht: Sauna Club &amp; Thomas Damager treten live auf. Los geht es ab 18:00 Uhr bis 00:00 Uhr. Neben den Live-Acts wird der Abend musikalisch von verschiedenen lokalen DJs begleitet, sodass durchgehend für Stimmung gesorgt ist. Im Alten Wasserwerk erwartet euch ein besonderes Zusammenspiel zweier Acts.Thomas Damager steht für energiegeladenen, ironischen Deutschrap mit einem klaren Augenzwinkern. Seine Texte bewegen sich bewusst zwischen Parodie und klassischem Gangster-Rap und machen seine Auftritte gleichzeitig unterhaltsam und mitreißend.   /   Sauna Club bringen danach ihren eigenen Sound auf die Bühne eine Band, die für intensive Live-Shows, kreative Arrangements und tanzbare Energie bekannt ist. Ihre Musik lebt von Dynamik und Atmosphäre und sorgt dafür, dass das Publikum direkt abgeholt wird.   /   Gerade diese Kombination macht den Abend besonders: Rap trifft auf Live-Band-Energie, Humor auf treibende Sounds – zwei Acts, die unterschiedlich sind, aber perfekt zusammen funktionieren.Wir freuen uns sehr auf euch und auf einen starken Abend beim Barhopper im Alten Wasserwerk.Parken beim Parkschwimmbad ab 19 Uhr kostenfrei.
END:VEVENT
END:VCALENDAR